BEGIN:VCALENDAR
VERSION:2.0
PRODID:-//Dynamic Works Foundation - ECPv6.14.2//NONSGML v1.0//EN
CALSCALE:GREGORIAN
METHOD:PUBLISH
X-WR-CALNAME:Dynamic Works Foundation
X-ORIGINAL-URL:https://dynamicworksfoundation.org
X-WR-CALDESC:Events for Dynamic Works Foundation
REFRESH-INTERVAL;VALUE=DURATION:PT1H
X-Robots-Tag:noindex
X-PUBLISHED-TTL:PT1H
BEGIN:VTIMEZONE
TZID:UTC
BEGIN:STANDARD
TZOFFSETFROM:+0000
TZOFFSETTO:+0000
TZNAME:UTC
DTSTART:20240101T000000
END:STANDARD
END:VTIMEZONE
BEGIN:VEVENT
DTSTART;TZID=UTC:20251015T080000
DTEND;TZID=UTC:20251015T120000
DTSTAMP:20260420T204327
CREATED:20251014T170932Z
LAST-MODIFIED:20251014T170933Z
UID:876-1760515200-1760529600@dynamicworksfoundation.org
SUMMARY:ADOLESCENTS WITH TALENTS SUMMIT 2025
DESCRIPTION:ADOLESCENTS WITH TALENTS SUMMIT 2025 🎉 \nTheme: Igniting the Adolescent 3Ps — Power\, Purpose\, and Potentials \nAre you a young person with a dream\, a gift\, or a burning passion waiting to be discovered?\nJoin us at this year’s Adolescents With Talents Summit — a life-changing gathering that connects talented adolescents with captains in the creative industry for mentorship\, coaching\, and inspiration! \n📅 Date: 15th October\, 2025\n🕗 Time: 8:00 AM – 12:00 PM\n📍 Venue: Legon Interdenominational Church \nDon’t miss this opportunity to unlock your potential and be part of a generation that leads with purpose! 💫 \n📞 For more information: 0597039447\n🌐 Visit: dynamicworksfoundation.org
URL:https://dynamicworksfoundation.org/event/adolescents-with-talents-summit-2025/
LOCATION:Legon Interdenominational Church\, Legon Interdenominational Church\, Accra\, Legon Accra\, Ghana
CATEGORIES:Adolescents,Youth
ATTACH;FMTTYPE=image/jpeg:https://dynamicworksfoundation.org/wp-content/uploads/2025/10/WhatsApp-Image-2025-10-14-at-6.31.35-AM.jpeg
ORGANIZER;CN="Glori Cann":MAILTO:dynamicworksngo10@gmail.com
END:VEVENT
BEGIN:VEVENT
DTSTART;VALUE=DATE:20250726
DTEND;VALUE=DATE:20250727
DTSTAMP:20260420T204327
CREATED:20250726T011318Z
LAST-MODIFIED:20250726T011432Z
UID:776-1753488000-1753574399@dynamicworksfoundation.org
SUMMARY:Adolescent with talent bootcamp (summit)
DESCRIPTION:The Adolescents with Talent Summit is an inspiring event hosted by the Dynamic Works Foundation that gathers young people from underserved communities to showcase their talents in art\, music\, and poetry. As part of the summit\, well-known actors and actresses are invited to mentor and advise participants\, sharing insights on how to balance their education with their creative passions. The summit celebrates talent\, offers a platform for growth\, and serves as a bridge between dreams and direction \n 
URL:https://dynamicworksfoundation.org/event/adolescent-with-talent-bootcamp-summit/
LOCATION:Legon Accra
CATEGORIES:Adolescents,Youth
ATTACH;FMTTYPE=image/jpeg:https://dynamicworksfoundation.org/wp-content/uploads/2025/07/awtb.jpg
END:VEVENT
BEGIN:VEVENT
DTSTART;VALUE=DATE:20241024
DTEND;VALUE=DATE:20241025
DTSTAMP:20260420T204327
CREATED:20250726T012101Z
LAST-MODIFIED:20250726T012101Z
UID:807-1729728000-1729814399@dynamicworksfoundation.org
SUMMARY:Outstanding performance
DESCRIPTION:
URL:https://dynamicworksfoundation.org/event/outstanding-performance/
LOCATION:Legon Accra
CATEGORIES:Adolescents,Youth
ATTACH;FMTTYPE=image/jpeg:https://dynamicworksfoundation.org/wp-content/uploads/2025/07/WhatsApp-Image-2025-07-25-at-7.10.47-PM.jpeg
END:VEVENT
END:VCALENDAR